BEGIN:VCALENDAR
VERSION:2.0
PRODID:-//New Mexico Music Commission - ECPv6.15.20//NONSGML v1.0//EN
CALSCALE:GREGORIAN
METHOD:PUBLISH
X-ORIGINAL-URL:https://newmexicomusic.org
X-WR-CALDESC:Events for New Mexico Music Commission
REFRESH-INTERVAL;VALUE=DURATION:PT1H
X-Robots-Tag:noindex
X-PUBLISHED-TTL:PT1H
BEGIN:VTIMEZONE
TZID:America/Denver
BEGIN:DAYLIGHT
TZOFFSETFROM:-0700
TZOFFSETTO:-0600
TZNAME:MDT
DTSTART:20220313T090000
END:DAYLIGHT
BEGIN:STANDARD
TZOFFSETFROM:-0600
TZOFFSETTO:-0700
TZNAME:MST
DTSTART:20221106T080000
END:STANDARD
BEGIN:DAYLIGHT
TZOFFSETFROM:-0700
TZOFFSETTO:-0600
TZNAME:MDT
DTSTART:20230312T090000
END:DAYLIGHT
BEGIN:STANDARD
TZOFFSETFROM:-0600
TZOFFSETTO:-0700
TZNAME:MST
DTSTART:20231105T080000
END:STANDARD
BEGIN:DAYLIGHT
TZOFFSETFROM:-0700
TZOFFSETTO:-0600
TZNAME:MDT
DTSTART:20240310T090000
END:DAYLIGHT
BEGIN:STANDARD
TZOFFSETFROM:-0600
TZOFFSETTO:-0700
TZNAME:MST
DTSTART:20241103T080000
END:STANDARD
END:VTIMEZONE
BEGIN:VEVENT
DTSTART;TZID=America/Denver:20230415T200000
DTEND;TZID=America/Denver:20230415T233000
DTSTAMP:20260419T163640
CREATED:20230331T204011Z
LAST-MODIFIED:20230331T204011Z
UID:8326-1681588800-1681601400@newmexicomusic.org
SUMMARY:Country Night: Brandon Saiz
DESCRIPTION:
URL:https://newmexicomusic.org/event/country-night-brandon-saiz/
LOCATION:Tucumcari Zia Club\, 428 S. 2nd St.\, Tucumcari\, NM\, 88401
END:VEVENT
END:VCALENDAR