BEGIN:VCALENDAR
VERSION:2.0
PRODID:-//New Mexico Music Commission - ECPv6.15.20//NONSGML v1.0//EN
CALSCALE:GREGORIAN
METHOD:PUBLISH
X-ORIGINAL-URL:https://newmexicomusic.org
X-WR-CALDESC:Events for New Mexico Music Commission
REFRESH-INTERVAL;VALUE=DURATION:PT1H
X-Robots-Tag:noindex
X-PUBLISHED-TTL:PT1H
BEGIN:VTIMEZONE
TZID:America/Denver
BEGIN:DAYLIGHT
TZOFFSETFROM:-0700
TZOFFSETTO:-0600
TZNAME:MDT
DTSTART:20220313T090000
END:DAYLIGHT
BEGIN:STANDARD
TZOFFSETFROM:-0600
TZOFFSETTO:-0700
TZNAME:MST
DTSTART:20221106T080000
END:STANDARD
BEGIN:DAYLIGHT
TZOFFSETFROM:-0700
TZOFFSETTO:-0600
TZNAME:MDT
DTSTART:20230312T090000
END:DAYLIGHT
BEGIN:STANDARD
TZOFFSETFROM:-0600
TZOFFSETTO:-0700
TZNAME:MST
DTSTART:20231105T080000
END:STANDARD
BEGIN:DAYLIGHT
TZOFFSETFROM:-0700
TZOFFSETTO:-0600
TZNAME:MDT
DTSTART:20240310T090000
END:DAYLIGHT
BEGIN:STANDARD
TZOFFSETFROM:-0600
TZOFFSETTO:-0700
TZNAME:MST
DTSTART:20241103T080000
END:STANDARD
END:VTIMEZONE
BEGIN:VEVENT
DTSTART;TZID=America/Denver:20230617T130000
DTEND;TZID=America/Denver:20230617T140000
DTSTAMP:20260420T110432
CREATED:20230530T213926Z
LAST-MODIFIED:20230530T213926Z
UID:8385-1687006800-1687010400@newmexicomusic.org
SUMMARY:Summer Concerts Southside- D.J.
DESCRIPTION:“Summer Concerts Southside” music series\, sponsored by the New Mexico Music Commission presents D.J.. \nD.J. is a local music producer who works with acoustic-electric\, nylon string guitar and different pedals to create his instrumental prog-hop vibe. \nBring your lawn chairs\, blankets and sun hats to enjoy the music outside the Southside Library!
URL:https://newmexicomusic.org/event/summer-concerts-southside-d-j/
LOCATION:Southside Library Portal\, 6599 Jaguar Dr\, Santa Fe\, NM\, 87507
ORGANIZER;CN="Santa Fe Public Library":MAILTO:kasandoval1@santafenm.gov
END:VEVENT
END:VCALENDAR